BEGIN:VCALENDAR
VERSION:2.0
PRODID:-//www.itcnet.org//NONSGML kigkonsult.se iCalcreator 2.30.10//
CALSCALE:GREGORIAN
METHOD:PUBLISH
UID:f51ac81f-89bb-40db-b910-39487e1a0d4c
X-WR-CALDESC:
X-WR-RELCALID:e37c6c3b63133f5837b81db031b720ce
X-WR-TIMEZONE:America/Los_Angeles
BEGIN:VTIMEZONE
TZID:America/Los_Angeles
BEGIN:STANDARD
TZNAME:PST
DTSTART:20161106T020000
TZOFFSETFROM:-0700
TZOFFSETTO:-0800
RDATE:20171105T020000
RDATE:20181104T020000
END:STANDARD
BEGIN:DAYLIGHT
TZNAME:PDT
DTSTART:20170312T020000
TZOFFSETFROM:-0800
TZOFFSETTO:-0700
RDATE:20180311T020000
END:DAYLIGHT
END:VTIMEZONE
BEGIN:VEVENT
UID:9f8bbb81-3cce-4cc9-b910-44cbf6f6d17f
DTSTAMP:20260422T210420Z
DESCRIPTION:
DTSTART;TZID=America/Los_Angeles:20170704T000000
DTEND;TZID=America/Los_Angeles:20170704T235900
LOCATION:
SUMMARY:Office Closed in Observance of Independence Day
END:VEVENT
END:VCALENDAR
