BEGIN:VCALENDAR
VERSION:2.0
PRODID:-//www.itcnet.org//NONSGML kigkonsult.se iCalcreator 2.30.10//
CALSCALE:GREGORIAN
METHOD:PUBLISH
UID:01a62abf-8438-46a9-bfd5-99bc040a2b1b
X-WR-CALDESC:
X-WR-RELCALID:984b591f7c8c73bf6d43866082deab5e
X-WR-TIMEZONE:America/Los_Angeles
BEGIN:VTIMEZONE
TZID:America/Los_Angeles
BEGIN:STANDARD
TZNAME:PST
DTSTART:20171105T020000
TZOFFSETFROM:-0700
TZOFFSETTO:-0800
RDATE:20181104T020000
END:STANDARD
BEGIN:DAYLIGHT
TZNAME:PDT
DTSTART:20170312T020000
TZOFFSETFROM:-0800
TZOFFSETTO:-0700
RDATE:20180311T020000
RDATE:20190310T020000
END:DAYLIGHT
END:VTIMEZONE
BEGIN:VEVENT
UID:59fcf41f-b0dc-48ed-b8e4-2cc27122fa44
DTSTAMP:20260422T134426Z
DESCRIPTION:
DTSTART;TZID=America/Los_Angeles:20171127T000000
DTEND;TZID=America/Los_Angeles:20171127T235900
LOCATION:
SUMMARY:Office Closed in Observance of Thanksgiving Day
END:VEVENT
END:VCALENDAR
