BEGIN:VCALENDAR
VERSION:2.0
PRODID:-//www.itcnet.org//NONSGML kigkonsult.se iCalcreator 2.30.10//
CALSCALE:GREGORIAN
METHOD:PUBLISH
UID:23427a39-647d-4213-b9aa-a986bb91524a
X-WR-CALDESC:
X-WR-RELCALID:9e6ebd2b6057cfd542a09217667fa741
X-WR-TIMEZONE:America/Los_Angeles
BEGIN:VTIMEZONE
TZID:America/Los_Angeles
BEGIN:STANDARD
TZNAME:PST
DTSTART:20171105T020000
TZOFFSETFROM:-0700
TZOFFSETTO:-0800
RDATE:20181104T020000
END:STANDARD
BEGIN:DAYLIGHT
TZNAME:PDT
DTSTART:20170312T020000
TZOFFSETFROM:-0800
TZOFFSETTO:-0700
RDATE:20180311T020000
RDATE:20190310T020000
END:DAYLIGHT
END:VTIMEZONE
BEGIN:VEVENT
UID:252f180c-af51-45da-889c-cb9b9de678f3
DTSTAMP:20260422T082454Z
DESCRIPTION:
DTSTART;TZID=America/Los_Angeles:20180219T000000
DTEND;TZID=America/Los_Angeles:20180219T235900
LOCATION:
SUMMARY:Office Closed Holiday
END:VEVENT
END:VCALENDAR
