BEGIN:VCALENDAR
VERSION:2.0
PRODID:-//www.itcnet.org//NONSGML kigkonsult.se iCalcreator 2.30.10//
CALSCALE:GREGORIAN
METHOD:PUBLISH
UID:812820d3-0cbc-43b8-afc6-565e4bdd7c79
X-WR-CALDESC:
X-WR-RELCALID:f94ae6bc3a8c807d0c35f0db195083e5
X-WR-TIMEZONE:America/Los_Angeles
BEGIN:VTIMEZONE
TZID:America/Los_Angeles
BEGIN:STANDARD
TZNAME:PST
DTSTART:20171105T020000
TZOFFSETFROM:-0700
TZOFFSETTO:-0800
RDATE:20181104T020000
END:STANDARD
BEGIN:DAYLIGHT
TZNAME:PDT
DTSTART:20170312T020000
TZOFFSETFROM:-0800
TZOFFSETTO:-0700
RDATE:20180311T020000
RDATE:20190310T020000
END:DAYLIGHT
END:VTIMEZONE
BEGIN:VEVENT
UID:c76aa0db-41b0-4914-8530-278ede5c31dc
DTSTAMP:20260422T082116Z
DESCRIPTION:
DTSTART;TZID=America/Los_Angeles:20180221T000000
DTEND;TZID=America/Los_Angeles:20180223T235900
LOCATION:Chandler\, AZ
SUMMARY:Board Meeting - Chandler\, AZ
END:VEVENT
END:VCALENDAR
