BEGIN:VCALENDAR
VERSION:2.0
PRODID:-//www.itcnet.org//NONSGML kigkonsult.se iCalcreator 2.30.10//
CALSCALE:GREGORIAN
METHOD:PUBLISH
UID:2de75c44-ac95-4bd5-b85f-0aa5d10021f0
X-WR-CALDESC:
X-WR-RELCALID:354d649bdd363a0afc3ec41c5bf3f5bb
X-WR-TIMEZONE:America/Los_Angeles
BEGIN:VTIMEZONE
TZID:America/Los_Angeles
BEGIN:STANDARD
TZNAME:PST
DTSTART:20171105T020000
TZOFFSETFROM:-0700
TZOFFSETTO:-0800
RDATE:20181104T020000
END:STANDARD
BEGIN:DAYLIGHT
TZNAME:PDT
DTSTART:20180311T020000
TZOFFSETFROM:-0800
TZOFFSETTO:-0700
RDATE:20190310T020000
END:DAYLIGHT
END:VTIMEZONE
BEGIN:VEVENT
UID:43d7eb5e-5cf6-4b87-a749-654354e8421a
DTSTAMP:20260422T050717Z
DESCRIPTION:
DTSTART;TZID=America/Los_Angeles:20180410T000000
DTEND;TZID=America/Los_Angeles:20180412T235900
LOCATION:Boise\, ID
SUMMARY:Board Meeting - Boise\, ID
END:VEVENT
END:VCALENDAR
