BEGIN:VCALENDAR
VERSION:2.0
PRODID:-//www.itcnet.org//NONSGML kigkonsult.se iCalcreator 2.30.10//
CALSCALE:GREGORIAN
METHOD:PUBLISH
UID:699d4d6c-49e5-467b-b970-5b7ea8cf54d8
X-WR-CALDESC:
X-WR-RELCALID:7603ffe78735780c0f87246870fda8da
X-WR-TIMEZONE:America/Los_Angeles
BEGIN:VTIMEZONE
TZID:America/Los_Angeles
BEGIN:STANDARD
TZNAME:PST
DTSTART:20171105T020000
TZOFFSETFROM:-0700
TZOFFSETTO:-0800
RDATE:20181104T020000
RDATE:20191103T020000
END:STANDARD
BEGIN:DAYLIGHT
TZNAME:PDT
DTSTART:20180311T020000
TZOFFSETFROM:-0800
TZOFFSETTO:-0700
RDATE:20190310T020000
END:DAYLIGHT
END:VTIMEZONE
BEGIN:VEVENT
UID:9cee486b-5d0c-4c23-8b64-21a0e05ee666
DTSTAMP:20260422T025825Z
DESCRIPTION:
DTSTART;TZID=America/Los_Angeles:20180528T000000
DTEND;TZID=America/Los_Angeles:20180528T235900
LOCATION:
SUMMARY:Office Closed: Memorial Day
END:VEVENT
END:VCALENDAR
