BEGIN:VCALENDAR
VERSION:2.0
PRODID:-//www.itcnet.org//NONSGML kigkonsult.se iCalcreator 2.30.10//
CALSCALE:GREGORIAN
METHOD:PUBLISH
UID:96f969dc-e0ff-497b-a78c-103359648ce7
X-WR-CALDESC:
X-WR-RELCALID:82c51d66c26804295e1d1ef283000ebd
X-WR-TIMEZONE:America/Los_Angeles
BEGIN:VTIMEZONE
TZID:America/Los_Angeles
BEGIN:STANDARD
TZNAME:PST
DTSTART:20171105T020000
TZOFFSETFROM:-0700
TZOFFSETTO:-0800
RDATE:20181104T020000
RDATE:20191103T020000
END:STANDARD
BEGIN:DAYLIGHT
TZNAME:PDT
DTSTART:20180311T020000
TZOFFSETFROM:-0800
TZOFFSETTO:-0700
RDATE:20190310T020000
END:DAYLIGHT
END:VTIMEZONE
BEGIN:VEVENT
UID:6269cd01-f7fe-4212-a34f-dce4d223ea59
DTSTAMP:20260422T004845Z
DESCRIPTION:
DTSTART;TZID=America/Los_Angeles:20180622T000000
DTEND;TZID=America/Los_Angeles:20180622T235900
LOCATION:
SUMMARY:Newsletter Deadline
END:VEVENT
END:VCALENDAR
