BEGIN:VCALENDAR
VERSION:2.0
PRODID:-//www.itcnet.org//NONSGML kigkonsult.se iCalcreator 2.30.10//
CALSCALE:GREGORIAN
METHOD:PUBLISH
UID:b1b9cb42-cdd8-4254-8c4d-74787b342138
X-WR-CALDESC:
X-WR-RELCALID:ffb356193c077e59da3a8bfcb824e645
X-WR-TIMEZONE:America/Los_Angeles
BEGIN:VTIMEZONE
TZID:America/Los_Angeles
BEGIN:STANDARD
TZNAME:PST
DTSTART:20171105T020000
TZOFFSETFROM:-0700
TZOFFSETTO:-0800
RDATE:20181104T020000
RDATE:20191103T020000
END:STANDARD
BEGIN:DAYLIGHT
TZNAME:PDT
DTSTART:20180311T020000
TZOFFSETFROM:-0800
TZOFFSETTO:-0700
RDATE:20190310T020000
END:DAYLIGHT
END:VTIMEZONE
BEGIN:VEVENT
UID:2ce438fa-889c-4b33-a9ba-0a520c200c75
DTSTAMP:20260421T233502Z
DESCRIPTION:
DTSTART;TZID=America/Los_Angeles:20180704T000000
DTEND;TZID=America/Los_Angeles:20180704T235900
LOCATION:
SUMMARY:Office Closed in Observance of Independence Day
END:VEVENT
END:VCALENDAR
