BEGIN:VCALENDAR
VERSION:2.0
PRODID:-//www.itcnet.org//NONSGML kigkonsult.se iCalcreator 2.30.10//
CALSCALE:GREGORIAN
METHOD:PUBLISH
UID:57808e47-3137-4c40-ab3e-3a18fd18bd20
X-WR-CALDESC:
X-WR-RELCALID:710a922985320f07453b065c36d8e278
X-WR-TIMEZONE:America/Los_Angeles
BEGIN:VTIMEZONE
TZID:America/Los_Angeles
BEGIN:STANDARD
TZNAME:PST
DTSTART:20171105T020000
TZOFFSETFROM:-0700
TZOFFSETTO:-0800
RDATE:20181104T020000
RDATE:20191103T020000
END:STANDARD
BEGIN:DAYLIGHT
TZNAME:PDT
DTSTART:20180311T020000
TZOFFSETFROM:-0800
TZOFFSETTO:-0700
RDATE:20190310T020000
END:DAYLIGHT
END:VTIMEZONE
BEGIN:VEVENT
UID:aa9e97ed-ddd0-4885-89d0-46032bf9c7ba
DTSTAMP:20260421T195213Z
DESCRIPTION:
DTSTART;TZID=America/Los_Angeles:20180903T000000
DTEND;TZID=America/Los_Angeles:20180903T235900
LOCATION:
SUMMARY:Office Closed Holiday: Labor Day
END:VEVENT
END:VCALENDAR
