BEGIN:VCALENDAR
VERSION:2.0
PRODID:-//www.itcnet.org//NONSGML kigkonsult.se iCalcreator 2.30.10//
CALSCALE:GREGORIAN
METHOD:PUBLISH
UID:ea772b77-1a65-4fb0-a0fc-6f865dc0bd9e
X-WR-CALDESC:
X-WR-RELCALID:621864d7921f16b2fda2aa7521f80993
X-WR-TIMEZONE:America/Los_Angeles
BEGIN:VTIMEZONE
TZID:America/Los_Angeles
BEGIN:STANDARD
TZNAME:PST
DTSTART:20171105T020000
TZOFFSETFROM:-0700
TZOFFSETTO:-0800
RDATE:20181104T020000
RDATE:20191103T020000
END:STANDARD
BEGIN:DAYLIGHT
TZNAME:PDT
DTSTART:20180311T020000
TZOFFSETFROM:-0800
TZOFFSETTO:-0700
RDATE:20190310T020000
RDATE:20200308T020000
END:DAYLIGHT
END:VTIMEZONE
BEGIN:VEVENT
UID:e6e8261a-0d24-47de-b31a-563075021f9e
DTSTAMP:20260421T194457Z
DESCRIPTION:
DTSTART;TZID=America/Los_Angeles:20180921T000000
DTEND;TZID=America/Los_Angeles:20180921T235900
LOCATION:
SUMMARY:Newsletter Deadline
END:VEVENT
END:VCALENDAR
