BEGIN:VCALENDAR
VERSION:2.0
PRODID:-//www.itcnet.org//NONSGML kigkonsult.se iCalcreator 2.30.10//
CALSCALE:GREGORIAN
METHOD:PUBLISH
UID:2a9a9a70-05e3-49be-ba44-5a430a17ca68
X-WR-CALDESC:
X-WR-RELCALID:f8acf9ff262828ca5bed8f549b00d917
X-WR-TIMEZONE:America/Los_Angeles
BEGIN:VTIMEZONE
TZID:America/Los_Angeles
BEGIN:STANDARD
TZNAME:PST
DTSTART:20181104T020000
TZOFFSETFROM:-0700
TZOFFSETTO:-0800
RDATE:20191103T020000
END:STANDARD
BEGIN:DAYLIGHT
TZNAME:PDT
DTSTART:20180311T020000
TZOFFSETFROM:-0800
TZOFFSETTO:-0700
RDATE:20190310T020000
RDATE:20200308T020000
END:DAYLIGHT
END:VTIMEZONE
BEGIN:VEVENT
UID:ad905049-5403-44cc-9cf5-776f3a098353
DTSTAMP:20260421T141004Z
DESCRIPTION:
DTSTART;TZID=America/Los_Angeles:20181211T000000
DTEND;TZID=America/Los_Angeles:20181213T235900
LOCATION:Portland\, OR
SUMMARY:Board Meeting - Portland\, OR
END:VEVENT
END:VCALENDAR
