BEGIN:VCALENDAR
VERSION:2.0
PRODID:-//www.itcnet.org//NONSGML kigkonsult.se iCalcreator 2.30.10//
CALSCALE:GREGORIAN
METHOD:PUBLISH
UID:f0e38f4a-766b-4c93-a872-1076c587fd75
X-WR-CALDESC:
X-WR-RELCALID:984968d9c5ed384147715d36cb933d81
X-WR-TIMEZONE:America/Los_Angeles
BEGIN:VTIMEZONE
TZID:America/Los_Angeles
BEGIN:STANDARD
TZNAME:PST
DTSTART:20181104T020000
TZOFFSETFROM:-0700
TZOFFSETTO:-0800
RDATE:20191103T020000
END:STANDARD
BEGIN:DAYLIGHT
TZNAME:PDT
DTSTART:20180311T020000
TZOFFSETFROM:-0800
TZOFFSETTO:-0700
RDATE:20190310T020000
RDATE:20200308T020000
END:DAYLIGHT
END:VTIMEZONE
BEGIN:VEVENT
UID:ff24dae9-852d-4c2e-b3e6-d8ef4fa36ad3
DTSTAMP:20260421T141426Z
DESCRIPTION:
DTSTART;TZID=America/Los_Angeles:20181224T000000
DTEND;TZID=America/Los_Angeles:20181224T235900
LOCATION:
SUMMARY:Office Closed Holiday
END:VEVENT
END:VCALENDAR
