BEGIN:VCALENDAR
VERSION:2.0
PRODID:-//www.itcnet.org//NONSGML kigkonsult.se iCalcreator 2.30.10//
CALSCALE:GREGORIAN
METHOD:PUBLISH
UID:9c625c9b-7aee-4567-b856-62030d7f2c43
X-WR-CALDESC:
X-WR-RELCALID:8b246ba4424d3fa8308ad8dc9f2d3902
X-WR-TIMEZONE:America/Los_Angeles
BEGIN:VTIMEZONE
TZID:America/Los_Angeles
BEGIN:STANDARD
TZNAME:PST
DTSTART:20181104T020000
TZOFFSETFROM:-0700
TZOFFSETTO:-0800
RDATE:20191103T020000
END:STANDARD
BEGIN:DAYLIGHT
TZNAME:PDT
DTSTART:20180311T020000
TZOFFSETFROM:-0800
TZOFFSETTO:-0700
RDATE:20190310T020000
RDATE:20200308T020000
END:DAYLIGHT
END:VTIMEZONE
BEGIN:VEVENT
UID:a6f6e41c-5b70-4647-93ad-f60e138cfcd0
DTSTAMP:20260421T105701Z
DESCRIPTION:
DTSTART;TZID=America/Los_Angeles:20190205T000000
DTEND;TZID=America/Los_Angeles:20190207T235900
LOCATION:
SUMMARY:Board Meeting - San Diego\, CA
END:VEVENT
END:VCALENDAR
