BEGIN:VCALENDAR
VERSION:2.0
PRODID:-//www.itcnet.org//NONSGML kigkonsult.se iCalcreator 2.30.10//
CALSCALE:GREGORIAN
METHOD:PUBLISH
UID:6cd165fd-2157-432b-98b1-0724ccddbed8
X-WR-CALDESC:
X-WR-RELCALID:da95ec9ac4961bc02cebeeb4a6a4f203
X-WR-TIMEZONE:America/Los_Angeles
BEGIN:VTIMEZONE
TZID:America/Los_Angeles
BEGIN:STANDARD
TZNAME:PST
DTSTART:20181104T020000
TZOFFSETFROM:-0700
TZOFFSETTO:-0800
RDATE:20191103T020000
RDATE:20201101T020000
END:STANDARD
BEGIN:DAYLIGHT
TZNAME:PDT
DTSTART:20190310T020000
TZOFFSETFROM:-0800
TZOFFSETTO:-0700
RDATE:20200308T020000
END:DAYLIGHT
END:VTIMEZONE
BEGIN:VEVENT
UID:448af72b-44dd-402a-a97b-746114fffce7
DTSTAMP:20260421T024536Z
DESCRIPTION:
DTSTART;TZID=America/Los_Angeles:20190704T000000
DTEND;TZID=America/Los_Angeles:20190704T235900
LOCATION:
SUMMARY:Office Closed in Observance of Independence Day
END:VEVENT
END:VCALENDAR
