BEGIN:VCALENDAR
VERSION:2.0
PRODID:-//www.itcnet.org//NONSGML kigkonsult.se iCalcreator 2.30.10//
CALSCALE:GREGORIAN
METHOD:PUBLISH
UID:046d9c38-2561-4828-8ce1-1f820c15239a
X-WR-CALDESC:
X-WR-RELCALID:4ec197b39be1021582288f78b437ecfe
X-WR-TIMEZONE:America/Los_Angeles
BEGIN:VTIMEZONE
TZID:America/Los_Angeles
BEGIN:STANDARD
TZNAME:PST
DTSTART:20191103T020000
TZOFFSETFROM:-0700
TZOFFSETTO:-0800
RDATE:20201101T020000
END:STANDARD
BEGIN:DAYLIGHT
TZNAME:PDT
DTSTART:20190310T020000
TZOFFSETFROM:-0800
TZOFFSETTO:-0700
RDATE:20200308T020000
RDATE:20210314T020000
END:DAYLIGHT
END:VTIMEZONE
BEGIN:VEVENT
UID:9d21e37d-01d0-4c70-8acb-29e532675666
DTSTAMP:20260420T200426Z
DESCRIPTION:
DTSTART;TZID=America/Los_Angeles:20191127T000000
DTEND;TZID=America/Los_Angeles:20191127T235900
LOCATION:
SUMMARY:Office Closed in Observance of Thanksgiving Day
END:VEVENT
END:VCALENDAR
