BEGIN:VCALENDAR
VERSION:2.0
PRODID:-//www.itcnet.org//NONSGML kigkonsult.se iCalcreator 2.30.10//
CALSCALE:GREGORIAN
METHOD:PUBLISH
UID:dcd4f5a6-34fb-4a41-8dbb-c9ef9947a25b
X-WR-CALDESC:Nominations are due by 5:00 PM P.S.T.
X-WR-RELCALID:547e3b75fd2eb3da66408c470cab5b75
X-WR-TIMEZONE:America/Los_Angeles
BEGIN:VTIMEZONE
TZID:America/Los_Angeles
BEGIN:STANDARD
TZNAME:PST
DTSTART:20191103T020000
TZOFFSETFROM:-0700
TZOFFSETTO:-0800
RDATE:20201101T020000
END:STANDARD
BEGIN:DAYLIGHT
TZNAME:PDT
DTSTART:20190310T020000
TZOFFSETFROM:-0800
TZOFFSETTO:-0700
RDATE:20200308T020000
RDATE:20210314T020000
END:DAYLIGHT
END:VTIMEZONE
BEGIN:VEVENT
UID:efdec5ea-2645-428b-8609-ba4b18530fab
DTSTAMP:20260420T164246Z
DESCRIPTION:Nominations are due by 5:00 PM P.S.T.
DTSTART;TZID=America/Los_Angeles:20200124T000000
DTEND;TZID=America/Los_Angeles:20200124T235900
LOCATION:
SUMMARY:2020 Earle R. Wilcox Awards Nomination Deadline
END:VEVENT
END:VCALENDAR
