BEGIN:VCALENDAR
VERSION:2.0
PRODID:-//www.itcnet.org//NONSGML kigkonsult.se iCalcreator 2.30.10//
CALSCALE:GREGORIAN
METHOD:PUBLISH
UID:c459296d-9784-4bc7-a41a-c628e2cbb687
X-WR-CALDESC:
X-WR-RELCALID:f06a18e161ce50c029d71f78cde3a6b5
X-WR-TIMEZONE:America/Los_Angeles
BEGIN:VTIMEZONE
TZID:America/Los_Angeles
BEGIN:STANDARD
TZNAME:PST
DTSTART:20191103T020000
TZOFFSETFROM:-0700
TZOFFSETTO:-0800
RDATE:20201101T020000
END:STANDARD
BEGIN:DAYLIGHT
TZNAME:PDT
DTSTART:20190310T020000
TZOFFSETFROM:-0800
TZOFFSETTO:-0700
RDATE:20200308T020000
RDATE:20210314T020000
END:DAYLIGHT
END:VTIMEZONE
BEGIN:VEVENT
UID:6856f23d-03f9-4233-9ab7-87bfdbbc9273
DTSTAMP:20260420T193130Z
DESCRIPTION:
DTSTART;TZID=America/Los_Angeles:20200204T000000
DTEND;TZID=America/Los_Angeles:20200206T235900
LOCATION:Rancho Mirage\, CA
SUMMARY:Board Meeting
END:VEVENT
END:VCALENDAR
