BEGIN:VCALENDAR
VERSION:2.0
PRODID:-//www.itcnet.org//NONSGML kigkonsult.se iCalcreator 2.30.10//
CALSCALE:GREGORIAN
METHOD:PUBLISH
UID:d77771a3-9625-4241-a8ad-0cab4fa35884
X-WR-CALDESC:
X-WR-RELCALID:7d0546c04a9965711ddb708da1b7d1a9
X-WR-TIMEZONE:America/Los_Angeles
BEGIN:VTIMEZONE
TZID:America/Los_Angeles
BEGIN:STANDARD
TZNAME:PST
DTSTART:20191103T020000
TZOFFSETFROM:-0700
TZOFFSETTO:-0800
RDATE:20201101T020000
END:STANDARD
BEGIN:DAYLIGHT
TZNAME:PDT
DTSTART:20190310T020000
TZOFFSETFROM:-0800
TZOFFSETTO:-0700
RDATE:20200308T020000
RDATE:20210314T020000
END:DAYLIGHT
END:VTIMEZONE
BEGIN:VEVENT
UID:d06b8f4f-b9e5-4066-805c-48a666f47c0b
DTSTAMP:20260419T145300Z
DESCRIPTION:
DTSTART;TZID=America/Los_Angeles:20200217T000000
DTEND;TZID=America/Los_Angeles:20200217T235900
LOCATION:
SUMMARY:Office Closed Holiday
END:VEVENT
END:VCALENDAR
