BEGIN:VCALENDAR
VERSION:2.0
PRODID:-//www.itcnet.org//NONSGML kigkonsult.se iCalcreator 2.30.10//
CALSCALE:GREGORIAN
METHOD:PUBLISH
UID:1dfb3e04-2699-4698-8e4d-ff1b6af243af
X-WR-CALDESC:
X-WR-RELCALID:78ab557bff1079e985b0a69444c8e467
X-WR-TIMEZONE:America/Los_Angeles
BEGIN:VTIMEZONE
TZID:America/Los_Angeles
BEGIN:STANDARD
TZNAME:PST
DTSTART:20191103T020000
TZOFFSETFROM:-0700
TZOFFSETTO:-0800
RDATE:20201101T020000
END:STANDARD
BEGIN:DAYLIGHT
TZNAME:PDT
DTSTART:20200308T020000
TZOFFSETFROM:-0800
TZOFFSETTO:-0700
RDATE:20210314T020000
END:DAYLIGHT
END:VTIMEZONE
BEGIN:VEVENT
UID:9f15bf28-53f1-4e1c-871d-da3b7c730653
DTSTAMP:20260420T121237Z
DESCRIPTION:
DTSTART;TZID=America/Los_Angeles:20200414T000000
DTEND;TZID=America/Los_Angeles:20200416T235900
LOCATION:
SUMMARY:Board Meeting
END:VEVENT
END:VCALENDAR
