BEGIN:VCALENDAR
VERSION:2.0
PRODID:-//www.itcnet.org//NONSGML kigkonsult.se iCalcreator 2.30.10//
CALSCALE:GREGORIAN
METHOD:PUBLISH
UID:dabc47fa-4c07-42e6-8eed-18c681301770
X-WR-CALDESC:
X-WR-RELCALID:0ee274b32c22239af4a599ff282712a3
X-WR-TIMEZONE:America/Los_Angeles
BEGIN:VTIMEZONE
TZID:America/Los_Angeles
BEGIN:STANDARD
TZNAME:PST
DTSTART:20191103T020000
TZOFFSETFROM:-0700
TZOFFSETTO:-0800
RDATE:20201101T020000
RDATE:20211107T020000
END:STANDARD
BEGIN:DAYLIGHT
TZNAME:PDT
DTSTART:20200308T020000
TZOFFSETFROM:-0800
TZOFFSETTO:-0700
RDATE:20210314T020000
END:DAYLIGHT
END:VTIMEZONE
BEGIN:VEVENT
UID:b835fa39-3b3f-40a2-adee-f8615224b93f
DTSTAMP:20260420T095252Z
DESCRIPTION:
DTSTART;TZID=America/Los_Angeles:20200525T000000
DTEND;TZID=America/Los_Angeles:20200525T235900
LOCATION:
SUMMARY:Office Closed Holiday
END:VEVENT
END:VCALENDAR
