BEGIN:VCALENDAR
VERSION:2.0
PRODID:-//www.itcnet.org//NONSGML kigkonsult.se iCalcreator 2.30.10//
CALSCALE:GREGORIAN
METHOD:PUBLISH
UID:70bbd784-66ca-46be-96f7-730964b37f6d
X-WR-CALDESC:
X-WR-RELCALID:d8e53381fe4b1f9f0f027559692f168f
X-WR-TIMEZONE:America/Los_Angeles
BEGIN:VTIMEZONE
TZID:America/Los_Angeles
BEGIN:STANDARD
TZNAME:PST
DTSTART:20191103T020000
TZOFFSETFROM:-0700
TZOFFSETTO:-0800
RDATE:20201101T020000
RDATE:20211107T020000
END:STANDARD
BEGIN:DAYLIGHT
TZNAME:PDT
DTSTART:20200308T020000
TZOFFSETFROM:-0800
TZOFFSETTO:-0700
RDATE:20210314T020000
END:DAYLIGHT
END:VTIMEZONE
BEGIN:VEVENT
UID:9590ef9b-e532-4498-bfff-ff64c852022f
DTSTAMP:20260422T091330Z
DESCRIPTION:
DTSTART;TZID=America/Los_Angeles:20200601T000000
DTEND;TZID=America/Los_Angeles:20200604T235900
LOCATION:Fairbanks\, AK
SUMMARY:2020 National Indian Timber Symposium
END:VEVENT
END:VCALENDAR
