BEGIN:VCALENDAR
VERSION:2.0
PRODID:-//www.itcnet.org//NONSGML kigkonsult.se iCalcreator 2.30.10//
CALSCALE:GREGORIAN
METHOD:PUBLISH
UID:aac6d461-0341-4c5f-b70e-c5022b76d721
X-WR-CALDESC:
X-WR-RELCALID:f7ceef34a2494fe1ed789a275d1bad12
X-WR-TIMEZONE:America/Los_Angeles
BEGIN:VTIMEZONE
TZID:America/Los_Angeles
BEGIN:STANDARD
TZNAME:PST
DTSTART:20201101T020000
TZOFFSETFROM:-0700
TZOFFSETTO:-0800
RDATE:20211107T020000
END:STANDARD
BEGIN:DAYLIGHT
TZNAME:PDT
DTSTART:20200308T020000
TZOFFSETFROM:-0800
TZOFFSETTO:-0700
RDATE:20210314T020000
RDATE:20220313T020000
END:DAYLIGHT
END:VTIMEZONE
BEGIN:VEVENT
UID:d28e809a-9c61-4d6a-a903-e342f1e2f855
DTSTAMP:20260420T101711Z
DESCRIPTION:
DTSTART;TZID=America/Los_Angeles:20201126T000000
DTEND;TZID=America/Los_Angeles:20201126T235900
LOCATION:
SUMMARY:Office Closed in Observance of Thanksgiving Day
END:VEVENT
END:VCALENDAR
