BEGIN:VCALENDAR
VERSION:2.0
PRODID:-//www.itcnet.org//NONSGML kigkonsult.se iCalcreator 2.30.10//
CALSCALE:GREGORIAN
METHOD:PUBLISH
UID:9199d742-a605-4a20-b84c-8a947ffd195b
X-WR-CALDESC:
X-WR-RELCALID:d3af105863123ac7fda98c8cab783d9e
X-WR-TIMEZONE:America/Los_Angeles
BEGIN:VTIMEZONE
TZID:America/Los_Angeles
BEGIN:STANDARD
TZNAME:PST
DTSTART:20201101T020000
TZOFFSETFROM:-0700
TZOFFSETTO:-0800
RDATE:20211107T020000
END:STANDARD
BEGIN:DAYLIGHT
TZNAME:PDT
DTSTART:20200308T020000
TZOFFSETFROM:-0800
TZOFFSETTO:-0700
RDATE:20210314T020000
RDATE:20220313T020000
END:DAYLIGHT
END:VTIMEZONE
BEGIN:VEVENT
UID:edf9f0f9-7cdf-4263-8561-ed108ef9ab89
DTSTAMP:20260422T085245Z
DESCRIPTION:
DTSTART;TZID=America/Los_Angeles:20201127T000000
DTEND;TZID=America/Los_Angeles:20201127T235900
LOCATION:
SUMMARY:Office Closed Holiday
END:VEVENT
END:VCALENDAR
