BEGIN:VCALENDAR
VERSION:2.0
PRODID:-//www.itcnet.org//NONSGML kigkonsult.se iCalcreator 2.30.10//
CALSCALE:GREGORIAN
METHOD:PUBLISH
UID:fe04d425-38fa-408a-8d65-196203ebede7
X-WR-CALDESC:
X-WR-RELCALID:a2f8c89f256f72775158000852675e81
X-WR-TIMEZONE:America/Los_Angeles
BEGIN:VTIMEZONE
TZID:America/Los_Angeles
BEGIN:STANDARD
TZNAME:PST
DTSTART:20201101T020000
TZOFFSETFROM:-0700
TZOFFSETTO:-0800
RDATE:20211107T020000
END:STANDARD
BEGIN:DAYLIGHT
TZNAME:PDT
DTSTART:20200308T020000
TZOFFSETFROM:-0800
TZOFFSETTO:-0700
RDATE:20210314T020000
RDATE:20220313T020000
END:DAYLIGHT
END:VTIMEZONE
BEGIN:VEVENT
UID:6cea6dbd-d265-44ae-bf0f-20cac89bb378
DTSTAMP:20260420T115307Z
DESCRIPTION:
DTSTART;TZID=America/Los_Angeles:20201207T000000
DTEND;TZID=America/Los_Angeles:20201211T235900
LOCATION:Virtual Meeting
SUMMARY:Board Meeting
END:VEVENT
END:VCALENDAR
