BEGIN:VCALENDAR
VERSION:2.0
PRODID:-//www.itcnet.org//NONSGML kigkonsult.se iCalcreator 2.30.10//
CALSCALE:GREGORIAN
METHOD:PUBLISH
UID:355a6ffb-702f-42fa-86e4-ae9c22b8f86b
X-WR-CALDESC:
X-WR-RELCALID:abd17312e7150dad68734714660ee4c2
X-WR-TIMEZONE:America/Los_Angeles
BEGIN:VTIMEZONE
TZID:America/Los_Angeles
BEGIN:STANDARD
TZNAME:PST
DTSTART:20201101T020000
TZOFFSETFROM:-0700
TZOFFSETTO:-0800
RDATE:20211107T020000
END:STANDARD
BEGIN:DAYLIGHT
TZNAME:PDT
DTSTART:20200308T020000
TZOFFSETFROM:-0800
TZOFFSETTO:-0700
RDATE:20210314T020000
RDATE:20220313T020000
END:DAYLIGHT
END:VTIMEZONE
BEGIN:VEVENT
UID:415c8170-e468-462e-a4ce-85a7eb9c9d8e
DTSTAMP:20260420T145934Z
DESCRIPTION:
DTSTART;TZID=America/Los_Angeles:20210208T000000
DTEND;TZID=America/Los_Angeles:20210212T235900
LOCATION:Virtual Meeting
SUMMARY:Board Meeting
END:VEVENT
END:VCALENDAR
