BEGIN:VCALENDAR
VERSION:2.0
PRODID:-//www.itcnet.org//NONSGML kigkonsult.se iCalcreator 2.30.10//
CALSCALE:GREGORIAN
METHOD:PUBLISH
UID:c53e36d1-d44b-42de-b191-30464ba74cc4
X-WR-CALDESC:
X-WR-RELCALID:47e552b70952e9953a12688438e2fe24
X-WR-TIMEZONE:America/Los_Angeles
BEGIN:VTIMEZONE
TZID:America/Los_Angeles
BEGIN:STANDARD
TZNAME:PST
DTSTART:20201101T020000
TZOFFSETFROM:-0700
TZOFFSETTO:-0800
RDATE:20211107T020000
RDATE:20221106T020000
END:STANDARD
BEGIN:DAYLIGHT
TZNAME:PDT
DTSTART:20210314T020000
TZOFFSETFROM:-0800
TZOFFSETTO:-0700
RDATE:20220313T020000
END:DAYLIGHT
END:VTIMEZONE
BEGIN:VEVENT
UID:993090bf-0168-44fa-986a-df51b4be9abf
DTSTAMP:20260420T182952Z
DESCRIPTION:
DTSTART;TZID=America/Los_Angeles:20210705T000000
DTEND;TZID=America/Los_Angeles:20210705T235900
LOCATION:
SUMMARY:Office Closed for Holiday
END:VEVENT
END:VCALENDAR
