BEGIN:VCALENDAR
VERSION:2.0
PRODID:-//www.itcnet.org//NONSGML kigkonsult.se iCalcreator 2.30.10//
CALSCALE:GREGORIAN
METHOD:PUBLISH
UID:385a210a-85b7-4267-a8c8-d72a1c3b7bbd
X-WR-CALDESC:
X-WR-RELCALID:8a22dac775dc0bfa46217cd8c14bc464
X-WR-TIMEZONE:America/Los_Angeles
BEGIN:VTIMEZONE
TZID:America/Los_Angeles
BEGIN:STANDARD
TZNAME:PST
DTSTART:20201101T020000
TZOFFSETFROM:-0700
TZOFFSETTO:-0800
RDATE:20211107T020000
RDATE:20221106T020000
END:STANDARD
BEGIN:DAYLIGHT
TZNAME:PDT
DTSTART:20210314T020000
TZOFFSETFROM:-0800
TZOFFSETTO:-0700
RDATE:20220313T020000
END:DAYLIGHT
END:VTIMEZONE
BEGIN:VEVENT
UID:b24d909f-6a34-4835-a144-41aae0b3d519
DTSTAMP:20260420T150625Z
DESCRIPTION:
DTSTART;TZID=America/Los_Angeles:20210906T000000
DTEND;TZID=America/Los_Angeles:20210906T235900
LOCATION:
SUMMARY:Office Closed for Holiday
END:VEVENT
END:VCALENDAR
