BEGIN:VCALENDAR
VERSION:2.0
PRODID:-//www.itcnet.org//NONSGML kigkonsult.se iCalcreator 2.30.10//
CALSCALE:GREGORIAN
METHOD:PUBLISH
UID:2515f8ca-0fb9-4152-8650-092125a1305e
X-WR-CALDESC:
X-WR-RELCALID:a8bee93a91a08b389996962c05794a64
X-WR-TIMEZONE:America/Los_Angeles
BEGIN:VTIMEZONE
TZID:America/Los_Angeles
BEGIN:STANDARD
TZNAME:PST
DTSTART:20201101T020000
TZOFFSETFROM:-0700
TZOFFSETTO:-0800
RDATE:20211107T020000
RDATE:20221106T020000
END:STANDARD
BEGIN:DAYLIGHT
TZNAME:PDT
DTSTART:20210314T020000
TZOFFSETFROM:-0800
TZOFFSETTO:-0700
RDATE:20220313T020000
RDATE:20230312T020000
END:DAYLIGHT
END:VTIMEZONE
BEGIN:VEVENT
UID:091d3dfb-c612-435e-96ca-7520ee07730c
DTSTAMP:20260420T084306Z
DESCRIPTION:
DTSTART;TZID=America/Los_Angeles:20210913T000000
DTEND;TZID=America/Los_Angeles:20210917T235900
LOCATION:Virtual Event
SUMMARY:Board Meeting
END:VEVENT
END:VCALENDAR
