BEGIN:VCALENDAR
VERSION:2.0
PRODID:-//www.itcnet.org//NONSGML kigkonsult.se iCalcreator 2.30.10//
CALSCALE:GREGORIAN
METHOD:PUBLISH
UID:5ffbf254-aa0c-4e64-8a93-96b56904c6bb
X-WR-CALDESC:
X-WR-RELCALID:24a0a85b42263440f95cf572b8ee3123
X-WR-TIMEZONE:America/Los_Angeles
BEGIN:VTIMEZONE
TZID:America/Los_Angeles
BEGIN:STANDARD
TZNAME:PST
DTSTART:20201101T020000
TZOFFSETFROM:-0700
TZOFFSETTO:-0800
RDATE:20211107T020000
RDATE:20221106T020000
END:STANDARD
BEGIN:DAYLIGHT
TZNAME:PDT
DTSTART:20210314T020000
TZOFFSETFROM:-0800
TZOFFSETTO:-0700
RDATE:20220313T020000
RDATE:20230312T020000
END:DAYLIGHT
END:VTIMEZONE
BEGIN:VEVENT
UID:dbe7c1f7-e073-463a-8b23-2414b496b6ca
DTSTAMP:20260422T090012Z
DESCRIPTION:
DTSTART;TZID=America/Los_Angeles:20211011T000000
DTEND;TZID=America/Los_Angeles:20211011T235900
LOCATION:
SUMMARY:Office Closed for Holiday
END:VEVENT
END:VCALENDAR
