BEGIN:VCALENDAR
VERSION:2.0
PRODID:-//www.itcnet.org//NONSGML kigkonsult.se iCalcreator 2.30.10//
CALSCALE:GREGORIAN
METHOD:PUBLISH
UID:4f03a87c-7d0a-4b77-89ef-9acc61fbd989
X-WR-CALDESC:
X-WR-RELCALID:ae29e77e3cd9159b96737ed07fa6b24d
X-WR-TIMEZONE:America/Los_Angeles
BEGIN:VTIMEZONE
TZID:America/Los_Angeles
BEGIN:STANDARD
TZNAME:PST
DTSTART:20211107T020000
TZOFFSETFROM:-0700
TZOFFSETTO:-0800
RDATE:20221106T020000
END:STANDARD
BEGIN:DAYLIGHT
TZNAME:PDT
DTSTART:20210314T020000
TZOFFSETFROM:-0800
TZOFFSETTO:-0700
RDATE:20220313T020000
RDATE:20230312T020000
END:DAYLIGHT
END:VTIMEZONE
BEGIN:VEVENT
UID:eadf1ad2-4286-49cf-b4d4-b6b3d045594a
DTSTAMP:20260420T084613Z
DESCRIPTION:
DTSTART;TZID=America/Los_Angeles:20211206T000000
DTEND;TZID=America/Los_Angeles:20211210T235900
LOCATION:Virtual Meeting
SUMMARY:Board Meeting
END:VEVENT
END:VCALENDAR
