BEGIN:VCALENDAR
VERSION:2.0
PRODID:-//www.itcnet.org//NONSGML kigkonsult.se iCalcreator 2.30.10//
CALSCALE:GREGORIAN
METHOD:PUBLISH
UID:bdb70e9f-1770-49b1-a8dd-7f971751be57
X-WR-CALDESC:
X-WR-RELCALID:cc3914a8233f54dbc9dbac1e7bc35b35
X-WR-TIMEZONE:America/Los_Angeles
BEGIN:VTIMEZONE
TZID:America/Los_Angeles
BEGIN:STANDARD
TZNAME:PST
DTSTART:20211107T020000
TZOFFSETFROM:-0700
TZOFFSETTO:-0800
RDATE:20221106T020000
END:STANDARD
BEGIN:DAYLIGHT
TZNAME:PDT
DTSTART:20210314T020000
TZOFFSETFROM:-0800
TZOFFSETTO:-0700
RDATE:20220313T020000
RDATE:20230312T020000
END:DAYLIGHT
END:VTIMEZONE
BEGIN:VEVENT
UID:9cd83d4c-6e97-4cc5-9fdc-2eb5832ea404
DTSTAMP:20260422T090233Z
DESCRIPTION:
DTSTART;TZID=America/Los_Angeles:20211230T000000
DTEND;TZID=America/Los_Angeles:20211231T235900
LOCATION:
SUMMARY:Office Closed for Holiday
END:VEVENT
END:VCALENDAR
