BEGIN:VCALENDAR
VERSION:2.0
PRODID:-//www.itcnet.org//NONSGML kigkonsult.se iCalcreator 2.30.10//
CALSCALE:GREGORIAN
METHOD:PUBLISH
UID:a042aad0-d5d4-4296-8e62-f51a4f3779cf
X-WR-CALDESC:
X-WR-RELCALID:de73c6771a47b73b5f0235fd2d13b1d1
X-WR-TIMEZONE:America/Los_Angeles
BEGIN:VTIMEZONE
TZID:America/Los_Angeles
BEGIN:STANDARD
TZNAME:PST
DTSTART:20211107T020000
TZOFFSETFROM:-0700
TZOFFSETTO:-0800
RDATE:20221106T020000
END:STANDARD
BEGIN:DAYLIGHT
TZNAME:PDT
DTSTART:20210314T020000
TZOFFSETFROM:-0800
TZOFFSETTO:-0700
RDATE:20220313T020000
RDATE:20230312T020000
END:DAYLIGHT
END:VTIMEZONE
BEGIN:VEVENT
UID:f07df46f-7529-4961-9b8d-a8b7a4c08419
DTSTAMP:20260420T084908Z
DESCRIPTION:
DTSTART;TZID=America/Los_Angeles:20220128T000000
DTEND;TZID=America/Los_Angeles:20220128T235900
LOCATION:
SUMMARY:Earle R. Wilcox Memorial Awards Nomination Deadline
END:VEVENT
END:VCALENDAR
