BEGIN:VCALENDAR
VERSION:2.0
PRODID:-//www.itcnet.org//NONSGML kigkonsult.se iCalcreator 2.30.10//
CALSCALE:GREGORIAN
METHOD:PUBLISH
UID:14f1a9a4-9d39-4371-b60a-fa0d4fe1fb7c
X-WR-CALDESC:
X-WR-RELCALID:585e7c72c85650ab3be430a917366d9c
X-WR-TIMEZONE:America/Los_Angeles
BEGIN:VTIMEZONE
TZID:America/Los_Angeles
BEGIN:STANDARD
TZNAME:PST
DTSTART:20221106T020000
TZOFFSETFROM:-0700
TZOFFSETTO:-0800
RDATE:20231105T020000
RDATE:20241103T020000
END:STANDARD
BEGIN:DAYLIGHT
TZNAME:PDT
DTSTART:20230312T020000
TZOFFSETFROM:-0800
TZOFFSETTO:-0700
RDATE:20240310T020000
END:DAYLIGHT
END:VTIMEZONE
BEGIN:VEVENT
UID:0f09ff45-b284-4dc3-82c1-428ec0a0bfae
DTSTAMP:20260422T094554Z
DESCRIPTION:
DTSTART;TZID=America/Los_Angeles:20230704T000000
DTEND;TZID=America/Los_Angeles:20230704T235900
LOCATION:
SUMMARY:Office Closed in Observance of Independence Day
END:VEVENT
END:VCALENDAR
