BEGIN:VCALENDAR
VERSION:2.0
PRODID:-//www.itcnet.org//NONSGML kigkonsult.se iCalcreator 2.30.10//
CALSCALE:GREGORIAN
METHOD:PUBLISH
UID:b8843a38-6c13-4f8a-8768-9c191ef133dd
X-WR-CALDESC:
X-WR-RELCALID:dd5417376e5f1cd690b1dd2038105ae9
X-WR-TIMEZONE:America/Los_Angeles
BEGIN:VTIMEZONE
TZID:America/Los_Angeles
BEGIN:STANDARD
TZNAME:PST
DTSTART:20221106T020000
TZOFFSETFROM:-0700
TZOFFSETTO:-0800
RDATE:20231105T020000
RDATE:20241103T020000
END:STANDARD
BEGIN:DAYLIGHT
TZNAME:PDT
DTSTART:20230312T020000
TZOFFSETFROM:-0800
TZOFFSETTO:-0700
RDATE:20240310T020000
RDATE:20250309T020000
END:DAYLIGHT
END:VTIMEZONE
BEGIN:VEVENT
UID:4923616f-df28-450a-967d-90596580a70b
DTSTAMP:20260422T115041Z
DESCRIPTION:
DTSTART;TZID=America/Los_Angeles:20230911T000000
DTEND;TZID=America/Los_Angeles:20230915T235900
LOCATION:Zoom Meeting
SUMMARY:Virtual Board Meeting
END:VEVENT
END:VCALENDAR
