BEGIN:VCALENDAR
VERSION:2.0
PRODID:-//www.itcnet.org//NONSGML kigkonsult.se iCalcreator 2.30.10//
CALSCALE:GREGORIAN
METHOD:PUBLISH
UID:43ff8f3a-bfae-4e09-8681-6cc3b5dce3db
X-WR-CALDESC:
X-WR-RELCALID:887439605bd4157500f238fee005a1db
X-WR-TIMEZONE:America/Los_Angeles
BEGIN:VTIMEZONE
TZID:America/Los_Angeles
BEGIN:STANDARD
TZNAME:PST
DTSTART:20231105T020000
TZOFFSETFROM:-0700
TZOFFSETTO:-0800
RDATE:20241103T020000
END:STANDARD
BEGIN:DAYLIGHT
TZNAME:PDT
DTSTART:20230312T020000
TZOFFSETFROM:-0800
TZOFFSETTO:-0700
RDATE:20240310T020000
RDATE:20250309T020000
END:DAYLIGHT
END:VTIMEZONE
BEGIN:VEVENT
UID:21d8df23-4cb4-4926-a0bb-9210724ad731
DTSTAMP:20260422T042609Z
DESCRIPTION:
DTSTART;TZID=America/Los_Angeles:20231123T030000
DTEND;TZID=America/Los_Angeles:20231124T030001
LOCATION:
SUMMARY:Office Closed for Thanksgiving
END:VEVENT
END:VCALENDAR
