BEGIN:VCALENDAR
VERSION:2.0
PRODID:-//www.itcnet.org//NONSGML kigkonsult.se iCalcreator 2.30.10//
CALSCALE:GREGORIAN
METHOD:PUBLISH
UID:e5f6a7e3-12ec-436b-8214-88a1eb99244e
X-WR-CALDESC:
X-WR-RELCALID:eeb8020538f52e60de736b2462581f88
X-WR-TIMEZONE:America/Los_Angeles
BEGIN:VTIMEZONE
TZID:America/Los_Angeles
BEGIN:STANDARD
TZNAME:PST
DTSTART:20231105T020000
TZOFFSETFROM:-0700
TZOFFSETTO:-0800
RDATE:20241103T020000
END:STANDARD
BEGIN:DAYLIGHT
TZNAME:PDT
DTSTART:20230312T020000
TZOFFSETFROM:-0800
TZOFFSETTO:-0700
RDATE:20240310T020000
RDATE:20250309T020000
END:DAYLIGHT
END:VTIMEZONE
BEGIN:VEVENT
UID:3f720e4b-e7de-4a2d-9bf1-cc98e27cf867
DTSTAMP:20260422T023209Z
DESCRIPTION:
DTSTART;TZID=America/Los_Angeles:20231225T000000
DTEND;TZID=America/Los_Angeles:20231226T235900
LOCATION:
SUMMARY:Office Closed for Holiday
END:VEVENT
END:VCALENDAR
