BEGIN:VCALENDAR
VERSION:2.0
PRODID:-//www.itcnet.org//NONSGML kigkonsult.se iCalcreator 2.30.10//
CALSCALE:GREGORIAN
METHOD:PUBLISH
UID:b4a16f83-3d9b-428b-ba6e-cc997714d5ae
X-WR-CALDESC:
X-WR-RELCALID:106b854ce3071b2e50bc6d658b1b087c
X-WR-TIMEZONE:America/Los_Angeles
BEGIN:VTIMEZONE
TZID:America/Los_Angeles
BEGIN:STANDARD
TZNAME:PST
DTSTART:20231105T020000
TZOFFSETFROM:-0700
TZOFFSETTO:-0800
RDATE:20241103T020000
END:STANDARD
BEGIN:DAYLIGHT
TZNAME:PDT
DTSTART:20230312T020000
TZOFFSETFROM:-0800
TZOFFSETTO:-0700
RDATE:20240310T020000
RDATE:20250309T020000
END:DAYLIGHT
END:VTIMEZONE
BEGIN:VEVENT
UID:38cf2492-4949-41bf-b88e-e1661ed5642f
DTSTAMP:20260422T005121Z
DESCRIPTION:
DTSTART;TZID=America/Los_Angeles:20240126T030000
DTEND;TZID=America/Los_Angeles:20240126T030001
LOCATION:
SUMMARY:Deadline for Earle R. Wilcox Award Nominations
END:VEVENT
END:VCALENDAR
