BEGIN:VCALENDAR
VERSION:2.0
PRODID:-//www.itcnet.org//NONSGML kigkonsult.se iCalcreator 2.30.10//
CALSCALE:GREGORIAN
METHOD:PUBLISH
UID:05487ca0-626b-4a7f-8fad-50353b843f88
X-WR-CALDESC:
X-WR-RELCALID:c5776011f2cd70b230169cee50074021
X-WR-TIMEZONE:America/Los_Angeles
BEGIN:VTIMEZONE
TZID:America/Los_Angeles
BEGIN:STANDARD
TZNAME:PST
DTSTART:20231105T020000
TZOFFSETFROM:-0700
TZOFFSETTO:-0800
RDATE:20241103T020000
END:STANDARD
BEGIN:DAYLIGHT
TZNAME:PDT
DTSTART:20230312T020000
TZOFFSETFROM:-0800
TZOFFSETTO:-0700
RDATE:20240310T020000
RDATE:20250309T020000
END:DAYLIGHT
END:VTIMEZONE
BEGIN:VEVENT
UID:3661e2dd-d6a2-4f14-b044-be169915a4b5
DTSTAMP:20260421T233544Z
DESCRIPTION:
DTSTART;TZID=America/Los_Angeles:20240212T030000
DTEND;TZID=America/Los_Angeles:20240216T030001
LOCATION:
SUMMARY:Board Meeting\, Virtual Zoom
END:VEVENT
END:VCALENDAR
