BEGIN:VCALENDAR
VERSION:2.0
PRODID:-//www.itcnet.org//NONSGML kigkonsult.se iCalcreator 2.30.10//
CALSCALE:GREGORIAN
METHOD:PUBLISH
UID:c1e6bf24-5d75-4066-af08-839365c15862
X-WR-CALDESC:
X-WR-RELCALID:5b0144ec5036459c7a0cc8d41b103ec2
X-WR-TIMEZONE:America/Los_Angeles
BEGIN:VTIMEZONE
TZID:America/Los_Angeles
BEGIN:STANDARD
TZNAME:PST
DTSTART:20231105T020000
TZOFFSETFROM:-0700
TZOFFSETTO:-0800
RDATE:20241103T020000
END:STANDARD
BEGIN:DAYLIGHT
TZNAME:PDT
DTSTART:20230312T020000
TZOFFSETFROM:-0800
TZOFFSETTO:-0700
RDATE:20240310T020000
RDATE:20250309T020000
END:DAYLIGHT
END:VTIMEZONE
BEGIN:VEVENT
UID:b5b8b066-d212-4117-b6a4-308f82b91a5b
DTSTAMP:20260421T231810Z
DESCRIPTION:
DTSTART;TZID=America/Los_Angeles:20240219T030000
DTEND;TZID=America/Los_Angeles:20240219T030001
LOCATION:
SUMMARY:Office Closed for Holiday
END:VEVENT
END:VCALENDAR
