BEGIN:VCALENDAR
VERSION:2.0
PRODID:-//www.itcnet.org//NONSGML kigkonsult.se iCalcreator 2.30.10//
CALSCALE:GREGORIAN
METHOD:PUBLISH
UID:60976d11-ffef-441b-829d-3fd069af69df
X-WR-CALDESC:
X-WR-RELCALID:23f7bc99508a09366f97352657c2209e
X-WR-TIMEZONE:America/Los_Angeles
BEGIN:VTIMEZONE
TZID:America/Los_Angeles
BEGIN:STANDARD
TZNAME:PST
DTSTART:20231105T020000
TZOFFSETFROM:-0700
TZOFFSETTO:-0800
RDATE:20241103T020000
END:STANDARD
BEGIN:DAYLIGHT
TZNAME:PDT
DTSTART:20240310T020000
TZOFFSETFROM:-0800
TZOFFSETTO:-0700
RDATE:20250309T020000
END:DAYLIGHT
END:VTIMEZONE
BEGIN:VEVENT
UID:59d25f32-d4ff-49a9-a0bc-af7ce651de5d
DTSTAMP:20260421T200622Z
DESCRIPTION:
DTSTART;TZID=America/Los_Angeles:20240409T030000
DTEND;TZID=America/Los_Angeles:20240411T030001
LOCATION:
SUMMARY:Board Meeting\, Blue Lake\, CA
END:VEVENT
END:VCALENDAR
