BEGIN:VCALENDAR
VERSION:2.0
PRODID:-//www.itcnet.org//NONSGML kigkonsult.se iCalcreator 2.30.10//
CALSCALE:GREGORIAN
METHOD:PUBLISH
UID:deff5dbb-1c77-4b18-8fda-25b4fa64d760
X-WR-CALDESC:
X-WR-RELCALID:e6b6eda4480e7ec46edaad044f9b917e
X-WR-TIMEZONE:America/Los_Angeles
BEGIN:VTIMEZONE
TZID:America/Los_Angeles
BEGIN:STANDARD
TZNAME:PST
DTSTART:20231105T020000
TZOFFSETFROM:-0700
TZOFFSETTO:-0800
RDATE:20241103T020000
RDATE:20251102T020000
END:STANDARD
BEGIN:DAYLIGHT
TZNAME:PDT
DTSTART:20240310T020000
TZOFFSETFROM:-0800
TZOFFSETTO:-0700
RDATE:20250309T020000
END:DAYLIGHT
END:VTIMEZONE
BEGIN:VEVENT
UID:c600f81b-9bb1-406b-9562-7410d52762e2
DTSTAMP:20260421T175442Z
DESCRIPTION:
DTSTART;TZID=America/Los_Angeles:20240513T030000
DTEND;TZID=America/Los_Angeles:20240516T030001
LOCATION:
SUMMARY:47th Annual National Indian Timber Symposium\, Cherokee\, NC
END:VEVENT
END:VCALENDAR
