BEGIN:VCALENDAR
VERSION:2.0
PRODID:-//www.itcnet.org//NONSGML kigkonsult.se iCalcreator 2.30.10//
CALSCALE:GREGORIAN
METHOD:PUBLISH
UID:4f60778e-bc35-4b54-aa2a-ba50f403c7d4
X-WR-CALDESC:
X-WR-RELCALID:301c13b3bbb0f5364eb37dd9b099cf5d
X-WR-TIMEZONE:America/Los_Angeles
BEGIN:VTIMEZONE
TZID:America/Los_Angeles
BEGIN:STANDARD
TZNAME:PST
DTSTART:20231105T020000
TZOFFSETFROM:-0700
TZOFFSETTO:-0800
RDATE:20241103T020000
RDATE:20251102T020000
END:STANDARD
BEGIN:DAYLIGHT
TZNAME:PDT
DTSTART:20240310T020000
TZOFFSETFROM:-0800
TZOFFSETTO:-0700
RDATE:20250309T020000
END:DAYLIGHT
END:VTIMEZONE
BEGIN:VEVENT
UID:53f2b38f-c12d-472e-b3e2-a931447457a9
DTSTAMP:20260421T142817Z
DESCRIPTION:
DTSTART;TZID=America/Los_Angeles:20240704T000000
DTEND;TZID=America/Los_Angeles:20240704T235900
LOCATION:
SUMMARY:Office Closed in Observance of Independence Day
END:VEVENT
END:VCALENDAR
