BEGIN:VCALENDAR
VERSION:2.0
PRODID:-//www.itcnet.org//NONSGML kigkonsult.se iCalcreator 2.30.10//
CALSCALE:GREGORIAN
METHOD:PUBLISH
UID:95d513b8-b81d-4a8b-a377-5f030cbb095f
X-WR-CALDESC:
X-WR-RELCALID:8f57af394e8f2acc6eb5a313ab875df7
X-WR-TIMEZONE:America/Los_Angeles
BEGIN:VTIMEZONE
TZID:America/Los_Angeles
BEGIN:STANDARD
TZNAME:PST
DTSTART:20241103T020000
TZOFFSETFROM:-0700
TZOFFSETTO:-0800
RDATE:20251102T020000
END:STANDARD
BEGIN:DAYLIGHT
TZNAME:PDT
DTSTART:20240310T020000
TZOFFSETFROM:-0800
TZOFFSETTO:-0700
RDATE:20250309T020000
RDATE:20260308T020000
END:DAYLIGHT
END:VTIMEZONE
BEGIN:VEVENT
UID:1442b0e0-1b3b-4c60-920e-c153851ce3bb
DTSTAMP:20260421T083121Z
DESCRIPTION:
DTSTART;TZID=America/Los_Angeles:20241128T030000
DTEND;TZID=America/Los_Angeles:20241129T030001
LOCATION:
SUMMARY:Office Closed for Holiday
END:VEVENT
END:VCALENDAR
