BEGIN:VCALENDAR
VERSION:2.0
PRODID:-//www.itcnet.org//NONSGML kigkonsult.se iCalcreator 2.30.10//
CALSCALE:GREGORIAN
METHOD:PUBLISH
UID:065a9870-4b96-4a29-921a-3a65d043e8de
X-WR-CALDESC:
X-WR-RELCALID:3fd60b2cce3f990722a31c0323cc0e1f
X-WR-TIMEZONE:America/Los_Angeles
BEGIN:VTIMEZONE
TZID:America/Los_Angeles
BEGIN:STANDARD
TZNAME:PST
DTSTART:20251102T020000
TZOFFSETFROM:-0700
TZOFFSETTO:-0800
RDATE:20261101T020000
END:STANDARD
BEGIN:DAYLIGHT
TZNAME:PDT
DTSTART:20260308T020000
TZOFFSETFROM:-0800
TZOFFSETTO:-0700
RDATE:20270314T020000
END:DAYLIGHT
END:VTIMEZONE
BEGIN:VEVENT
UID:f5e8f7e2-8d2b-4ab4-9015-5a6b934826df
DTSTAMP:20260420T085028Z
DESCRIPTION:
DTSTART;TZID=America/Los_Angeles:20260414T030000
DTEND;TZID=America/Los_Angeles:20260416T030001
LOCATION:Boise\, ID
SUMMARY:Board Meeting (Boise\, ID)
END:VEVENT
END:VCALENDAR
